BEGIN:VCALENDAR
VERSION:2.0
PRODID:-//Gestalt Center for Organization and Systems Development - ECPv6.15.11//NONSGML v1.0//EN
CALSCALE:GREGORIAN
METHOD:PUBLISH
X-WR-CALNAME:Gestalt Center for Organization and Systems Development
X-ORIGINAL-URL:https://www.gestaltosd.org
X-WR-CALDESC:Events for Gestalt Center for Organization and Systems Development
REFRESH-INTERVAL;VALUE=DURATION:PT1H
X-Robots-Tag:noindex
X-PUBLISHED-TTL:PT1H
BEGIN:VTIMEZONE
TZID:America/New_York
BEGIN:DAYLIGHT
TZOFFSETFROM:-0500
TZOFFSETTO:-0400
TZNAME:EDT
DTSTART:20170312T070000
END:DAYLIGHT
BEGIN:STANDARD
TZOFFSETFROM:-0400
TZOFFSETTO:-0500
TZNAME:EST
DTSTART:20171105T060000
END:STANDARD
BEGIN:DAYLIGHT
TZOFFSETFROM:-0500
TZOFFSETTO:-0400
TZNAME:EDT
DTSTART:20180311T070000
END:DAYLIGHT
BEGIN:STANDARD
TZOFFSETFROM:-0400
TZOFFSETTO:-0500
TZNAME:EST
DTSTART:20181104T060000
END:STANDARD
BEGIN:DAYLIGHT
TZOFFSETFROM:-0500
TZOFFSETTO:-0400
TZNAME:EDT
DTSTART:20190310T070000
END:DAYLIGHT
BEGIN:STANDARD
TZOFFSETFROM:-0400
TZOFFSETTO:-0500
TZNAME:EST
DTSTART:20191103T060000
END:STANDARD
END:VTIMEZONE
BEGIN:VEVENT
DTSTART;VALUE=DATE:20181017
DTEND;VALUE=DATE:20181020
DTSTAMP:20260423T161953
CREATED:20160907T171505Z
LAST-MODIFIED:20180713T170722Z
UID:570-1539734400-1539993599@www.gestaltosd.org
SUMMARY:3rd Biannual International Columbia Coaching Conference
DESCRIPTION:  \nRachel Ciporen\, Tanya Faude-Koivisto\, Veronica Hopper Carter and John D. Carter\, OSD Faculty\, will be speaking at the 3rd Biannual International Columbia Coaching Conference October 17 - 19\, 2018. This is taking place in New York City at the Teachers College\, Columbia University. The theme this year is Systemic Coaching: Whole-Person / Whole-Organization Engagement. \nIf you are interested\, you can register here.
URL:https://www.gestaltosd.org/event/2nd-biannual-international-columbia-coaching-conference/
CATEGORIES:Conferences
END:VEVENT
END:VCALENDAR